BEGIN:VCALENDAR
PRODID:-//eluceo/ical//2.0/EN
VERSION:2.0
CALSCALE:GREGORIAN
BEGIN:VEVENT
UID:afdf055311663d89980408f5a67f8e94
DTSTAMP:20260424T004200Z
SUMMARY:[RC + RAC Tradate]  Imprenditori e Manager\, visioni comuni e diffe
 renze per il futuro dell’impresa
DESCRIPTION:Talare: Walter Coletta ha una lunga esperienza professionale ne
 lla gestione delle operations\, in diversi ambienti e contesti di business
 \, contando diverse collaborazioni con società di private equity e con pr
 imarie società di consulenza direzionale\, con ruoli di responsabilità n
 el settore delle operations in ambito industriale. Laureato in Ingegneria 
 Meccanica al Politecnico di Milano\, ha conseguito titoli di specializzazi
 one in Gestione e organizzazione Aziendale presso il Politecnico e un Mast
 er in Amministrazione e Controllo di gestione all’Università Luigi Bocc
 oni di Milano. È imprenditore e docente all'Università Luigi Cattaneo di
  Castellanza presso il Dipartimento di ingegneria gestionale e presso la L
 IUC Business School. 
URL:https://insubrico.org/sv/agenda/show/179035
DTSTART;TZID=Europe/Zurich:20240610T200000
DTEND;TZID=Europe/Zurich:20240610T223000
LOCATION:Ristorante L’Armonica Tradate\, Via V. Monti n. 6
CATEGORIES:Rotary
END:VEVENT
BEGIN:VTIMEZONE
TZID:Europe/Zurich
BEGIN:DAYLIGHT
DTSTART:20240610T200000
TZNAME:CEST
TZOFFSETTO:+0200
TZOFFSETFROM:+0200
END:DAYLIGHT
END:VTIMEZONE
END:VCALENDAR
