BEGIN:VCALENDAR
PRODID:-//eluceo/ical//2.0/EN
VERSION:2.0
CALSCALE:GREGORIAN
BEGIN:VEVENT
UID:e9e8fa504a42b34bb7065b569133ed30
DTSTAMP:20260423T231153Z
SUMMARY:[RC Varese] Villa Panza - Visita alle Collezioni della Villa Fai
DESCRIPTION:Talare: Incontro con Gabriella Belli (nuovo Direttore)\, e con
  Erica Gasparini (Conservatore) nonché Marta Spanevello (Curatore)  
URL:https://insubrico.org/sv/agenda/show/178604
DTSTART;TZID=Europe/Zurich:20240606T183000
DTEND;TZID=Europe/Zurich:20240606T223000
LOCATION:Villa Panza\, Piazza Litta\, 1- Varese
CATEGORIES:Rotary
END:VEVENT
BEGIN:VTIMEZONE
TZID:Europe/Zurich
BEGIN:DAYLIGHT
DTSTART:20240606T183000
TZNAME:CEST
TZOFFSETTO:+0200
TZOFFSETFROM:+0200
END:DAYLIGHT
END:VTIMEZONE
END:VCALENDAR
