BEGIN:VCALENDAR
PRODID:-//eluceo/ical//2.0/EN
VERSION:2.0
CALSCALE:GREGORIAN
BEGIN:VEVENT
UID:7707f501a794488498ccb2a66baccb10
DTSTAMP:20260423T225706Z
SUMMARY:[Rotary / Lions /Soroptimist Como] One Wine Night
DESCRIPTION:
URL:https://insubrico.org/sv/agenda/show/177659
DTSTART;TZID=Europe/Zurich:20240530T180000
DTEND;TZID=Europe/Zurich:20240530T200000
LOCATION:Broletto Piazza Duomo - Como
CATEGORIES:Rotary
END:VEVENT
BEGIN:VTIMEZONE
TZID:Europe/Zurich
BEGIN:DAYLIGHT
DTSTART:20240530T180000
TZNAME:CEST
TZOFFSETTO:+0200
TZOFFSETFROM:+0200
END:DAYLIGHT
END:VTIMEZONE
END:VCALENDAR
