BEGIN:VCALENDAR
PRODID:-//eluceo/ical//2.0/EN
VERSION:2.0
CALSCALE:GREGORIAN
BEGIN:VEVENT
UID:b9dd19efa12fc17cee419e12d0f9ecb4
DTSTAMP:20260424T003344Z
SUMMARY:[RC Cantù] Fake News in Meteorologia
DESCRIPTION:Talare: STEFANIA ANDRIOLA\nGiornalistaAttualmente è impegnata 
 a tempo pieno come giornalista per il Centro Epson Meteo con cui ha debutt
 ato a luglio 2010 per il Tg5 di Canale5 e poi per il canale Tgcom24.  
URL:https://insubrico.org/sv/agenda/show/177579
DTSTART;TZID=Europe/Zurich:20240528T200000
DTEND;TZID=Europe/Zurich:20240528T200000
LOCATION:Golf Club Carimate\, Via Airoldi 2\, 22060 Carimate (CO)\, Italia
CATEGORIES:Rotary
END:VEVENT
BEGIN:VTIMEZONE
TZID:Europe/Zurich
BEGIN:DAYLIGHT
DTSTART:20240528T200000
TZNAME:CEST
TZOFFSETTO:+0200
TZOFFSETFROM:+0200
END:DAYLIGHT
END:VTIMEZONE
END:VCALENDAR
