BEGIN:VCALENDAR
PRODID:-//eluceo/ical//2.0/EN
VERSION:2.0
CALSCALE:GREGORIAN
BEGIN:VEVENT
UID:61bb40c0908ad7b46fae97639482f18d
DTSTAMP:20260424T034247Z
SUMMARY:[RC Sesto Calende / Angera] La prevenzione del tumore mammario
DESCRIPTION:Talare:   Dott.ssa Lucrezia Giaramita  Università degli Stu
 di dell’Insubria di Varese:  Laurea Specialistica In Medicina e Chirurg
 ia con votazione pari a 110 e lode  Università degli Studi di Milano\n 
 Scuola di Spec. In Radiodiagnostica: Diploma di Specializzazione in Radiod
 iagnostica Già dirigente presso la Radiologia dell’ospedale Valduce (C
 O)Consulente libero professionale di Radiodiagnostica nelle metodiche RM\,
  TC\, Radiologia \ntradizionale ed Ecografia con particolare interesse nel
 la Radiologia Senologica per la prevenzione \ndel tumore mammario e nella 
 Radiologia Muscolo-Scheletrica  
URL:https://insubrico.org/sv/agenda/show/177109
DTSTART;TZID=Europe/Zurich:20240524T200000
DTEND;TZID=Europe/Zurich:20240524T223000
LOCATION:Casa Don Guanella  Via Don Guanella\, 43\, 21027 Barza\, Ispra VA
CATEGORIES:Rotary
END:VEVENT
BEGIN:VTIMEZONE
TZID:Europe/Zurich
BEGIN:DAYLIGHT
DTSTART:20240524T200000
TZNAME:CEST
TZOFFSETTO:+0200
TZOFFSETFROM:+0200
END:DAYLIGHT
END:VTIMEZONE
END:VCALENDAR
