BEGIN:VCALENDAR
PRODID:-//eluceo/ical//2.0/EN
VERSION:2.0
CALSCALE:GREGORIAN
BEGIN:VEVENT
UID:e384ac4d0078d9f1f78708946868edc3
DTSTAMP:20260424T020025Z
SUMMARY:[IN Città dei Laghi] Arte e cultura dei laghi - diverse date
DESCRIPTION:Webbplats: https://www.arc.usi.ch/it\nTalare: Diversi relatori
URL:https://insubrico.org/sv/agenda/show/176804
DTSTART;TZID=Europe/Zurich:20240424T160000
DTEND;TZID=Europe/Zurich:20240528T180000
LOCATION:Diverse sedi
CATEGORIES:Rotary
END:VEVENT
BEGIN:VTIMEZONE
TZID:Europe/Zurich
BEGIN:DAYLIGHT
DTSTART:20240424T160000
TZNAME:CEST
TZOFFSETTO:+0200
TZOFFSETFROM:+0200
END:DAYLIGHT
END:VTIMEZONE
END:VCALENDAR
