BEGIN:VCALENDAR
PRODID:-//eluceo/ical//2.0/EN
VERSION:2.0
CALSCALE:GREGORIAN
BEGIN:VEVENT
UID:cc04bc200208a4c06010a02149a59af5
DTSTAMP:20260422T030012Z
SUMMARY:(Distretto 2042) Esposizione opere d'arte della collezione privata 
 di Carlo Guarisco
DESCRIPTION:Talare: Carlo Guarisco\, imprenditore tessile comasco che ha fo
 ndato negli anni '60 la Guarisco Industria Tessile S.p.a.\, azienda leade
 r per oltre 50 anni nella creazione e stampa di prodotti tessili con distr
 ibuzione in tutto il mondo\, oltre ad essere molto conosciuto ed apprezza
 to per la sua attività e persona\, è stato anche un grande appassionato
  di arte in tutte le sue forme.Nel corso degli anni ha raccolto una vasta 
 collezione di capolavori di vario genere\, che conta\, fra le numerosissi
 me opere\, dipinti di Mario Radice\, Angelo Binaghi\, Ugo Bernasconi\, Mos
 è Bianchi\, sculture di Jorio Vivarelli\, Giovanni Mason\, Paolo Troubet
 zkoy\, lampade Tiffany\, vasi Gallè e mobilio d’epoca con pezzi d’an
 tiquariato ed elementi d’arredo molto prestigiosi.
URL:https://insubrico.org/sv/agenda/show/159932
DTSTART;TZID=Europe/Zurich:20230514T100000
DTEND;TZID=Europe/Zurich:20230514T180000
LOCATION:via Lieto Colle 6\, fraz. Cavallasca\, San Fermo della Battaglia (
 CO)
CATEGORIES:Rotary
END:VEVENT
BEGIN:VTIMEZONE
TZID:Europe/Zurich
BEGIN:DAYLIGHT
DTSTART:20230514T100000
TZNAME:CEST
TZOFFSETTO:+0200
TZOFFSETFROM:+0200
END:DAYLIGHT
END:VTIMEZONE
END:VCALENDAR
