BEGIN:VCALENDAR
PRODID:-//eluceo/ical//2.0/EN
VERSION:2.0
CALSCALE:GREGORIAN
BEGIN:VEVENT
UID:05dc06cb14b04a0a38d7db2c03a232d6
DTSTAMP:20260422T030112Z
SUMMARY:Tanti auguri!
DESCRIPTION:Webbplats: https://www.hotelcastellodicasiglio.it/
URL:https://insubrico.org/sv/agenda/show/159200
DTSTART;TZID=Europe/Zurich:20230504T190000
DTEND;TZID=Europe/Zurich:20230504T223000
LOCATION:Castello di Casiglio\, Via Cesare Cantù\, 21\, 22036 Erba\, Itali
 a
CATEGORIES:Rotary
END:VEVENT
BEGIN:VTIMEZONE
TZID:Europe/Zurich
BEGIN:DAYLIGHT
DTSTART:20230504T190000
TZNAME:CEST
TZOFFSETTO:+0200
TZOFFSETFROM:+0200
END:DAYLIGHT
END:VTIMEZONE
END:VCALENDAR
