BEGIN:VCALENDAR
PRODID:-//eluceo/ical//2.0/EN
VERSION:2.0
CALSCALE:GREGORIAN
BEGIN:VEVENT
UID:c619040c99b731297fb4721568c28afc
DTSTAMP:20260421T084811Z
SUMMARY:[RC Locarno] Reporter di guerra: raccontare i conflitti del mondo
DESCRIPTION:Sprekers: Fausto Biloslavo è uno dei più noti reporter di gue
 rra italiani. Giornalista\, scrittore e fotoreporter\, da oltre quarant’
 anni racconta i principali conflitti del mondo\, dal Medio Oriente ai Balc
 ani\, dall’Africa all’Asia Centrale. Ha seguito guerre\, rivoluzioni e
  crisi umanitarie lavorando spesso in condizioni estreme\, offrendo testim
 onianze dirette che hanno contribuito a informare l’opinione pubblica in
 ternazionale. Con il suo stile rigoroso e il suo sguardo umano\, Biloslavo
  è oggi considerato una delle voci più autorevoli del giornalismo di fro
 ntiera.
URL:https://insubrico.org/nl/agenda/show/210313
DTSTART;TZID=Europe/Zurich:20260324T183000
DTEND;TZID=Europe/Zurich:20260324T213000
LOCATION:Hotel Belvedere\, Via ai Monti della Trinità 44\, Locarno
CATEGORIES:Rotary
END:VEVENT
BEGIN:VTIMEZONE
TZID:Europe/Zurich
BEGIN:STANDARD
DTSTART:20260324T183000
TZNAME:CET
TZOFFSETTO:+0100
TZOFFSETFROM:+0100
END:STANDARD
END:VTIMEZONE
END:VCALENDAR
