BEGIN:VCALENDAR
PRODID:-//eluceo/ical//2.0/EN
VERSION:2.0
CALSCALE:GREGORIAN
BEGIN:VEVENT
UID:37228683439cb32365e611feda9ef7a4
DTSTAMP:20260425T131219Z
SUMMARY:[Interclub] Dal disordine nasce il futuro e si chiama cambiamento
DESCRIPTION:Sprekers: Il Professor Giuliano Noci è noto al grande pubblico
  come commentatore di TG1 (RAI)\, TG2 (RAI)\, RaiNews24 (RAI)\, SkyTg24\, 
 La7\, Bloomberg TV\, France Press\, Corriere della Sera\, Il Sole 24 Ore\,
  Radio24 e Class CNBC.\n\nÈ Professore ordinario di Strategia & Marketing
  al Politecnico di Milano e Vice Rettore con delega per il Polo Cinese. At
 tualmente è membro del CdA di Sidera srl\, Polimilano Beijing Educational
  Consulting Ltd e Macron SpA e del Board of Trustee della TongJi Universit
 y. Nel 2015 ha ricevuto il “China-Italy Science Technology Innovation Co
 operation Contribution Award” dal Ministero della Scienza e della Tecnol
 ogia della RPC e del Ministero dell’Istruzione e della Ricerca della Rep
 ubblica Italiana per il suo eccezionale contributo alla cooperazione e all
 ’innovazione bilaterale. Dal 2013 al 2019 è stato membro del Board of D
 irectors della MIP Graduate School of Business. Dal 2003 al 2010 ha ricope
 rto il ruolo di consulente strategico presso il Ministero dell’Interno d
 el Governo Italiano.\n\nÈ esperto di strategie aziendali e marketing. Neg
 li ultimi 15 anni\, i suoi studi si sono concentrati sull’analisi dell
 ’impatto delle ICT sulle strategie di marketing e branding in un contest
 o globale. Ha dedicato particolare attenzione ai temi di progettazione e g
 estione di esperienze di valore per il mercato finale e Marketing 2.0. Coo
 rdina Research Labs e Observatories dedicati a investigare l’impatto del
 le tecnologie digitali sui comportamenti dei consumatori e sulle strategie
  aziendali come Scientific Director di Physiology Experience and Emotion L
 ab e Metaverse Marketing Lab ed è direttore scientifico degli Observatori
 es: Multichannel Marketing\, Internet Media\, Omnichannel Customer Experie
 nce ed e-Government. Consulente nel multichannel marketing ed è stato Sci
 entific Director e/o senior adviser di diversi progetti volti a supportare
  l’implementazione di efficaci strategie di branding nelle aziende cines
 i.\n\n\nÈ autore di numerosi libri e articoli pubblicati su riviste scien
 tifiche internazionali\, alcuni dei quali sono stati premiati come miglior
 i saggi dell’anno.
URL:https://insubrico.org/nl/agenda/show/208744
DTSTART;TZID=Europe/Zurich:20260122T200000
DTEND;TZID=Europe/Zurich:20260122T230000
LOCATION:Golf Club Panorama Via Belmonte 169\, Varese
CATEGORIES:Rotary
END:VEVENT
BEGIN:VTIMEZONE
TZID:Europe/Zurich
BEGIN:STANDARD
DTSTART:20260122T200000
TZNAME:CET
TZOFFSETTO:+0100
TZOFFSETFROM:+0100
END:STANDARD
END:VTIMEZONE
END:VCALENDAR
