BEGIN:VCALENDAR
PRODID:-//eluceo/ical//2.0/EN
VERSION:2.0
CALSCALE:GREGORIAN
BEGIN:VEVENT
UID:1615e3386af9ffdd20d04b97fb35e951
DTSTAMP:20260419T135144Z
SUMMARY:[RC Como] Mi aspetto Rispetto
DESCRIPTION:Sito web: https://teatrosocialecomo.it/\nRelatore/i: Valerie Mo
 retti è psicopedagogista\, esperta in educazione emotiva\, affettività e
  prevenzione del disagio in età evolutiva. È l’ideatrice e anima del p
 rogetto “Mi aspetto Rispetto”\, promosso dal Rotary Club Como e realiz
 zato dalla Cooperativa Sociale AttivaMente.\nHa una solida formazione acca
 demica in Scienze dell’Educazione\, con specializzazione in Counseling\,
  maturata anche attraverso esperienze internazionali nel campo della preve
 nzione dell’abuso e della violenza. Da anni opera in ambito scolastico\,
  sociale e formativo\, collaborando con enti pubblici\, istituzioni e fond
 azioni.
URL:https://insubrico.org/it/agenda/show/212445
DTSTART;TZID=Europe/Zurich:20260423T200000
DTEND;TZID=Europe/Zurich:20260423T223000
LOCATION:Sala Bianca Teatro sociale di Como\, Via Bellini\, 1\, 1. piano\, 
 22100 Como\, Italia
CATEGORIES:Rotary
END:VEVENT
BEGIN:VTIMEZONE
TZID:Europe/Zurich
BEGIN:DAYLIGHT
DTSTART:20260423T200000
TZNAME:CEST
TZOFFSETTO:+0200
TZOFFSETFROM:+0200
END:DAYLIGHT
END:VTIMEZONE
END:VCALENDAR
