BEGIN:VCALENDAR
PRODID:-//eluceo/ical//2.0/EN
VERSION:2.0
CALSCALE:GREGORIAN
BEGIN:VEVENT
UID:e9e393e7ad27992bfebe9987cbb0aed9
DTSTAMP:20260419T134358Z
SUMMARY:[RC Cantù] Sanità in Provincia di Como: scenari\, sfide e prospet
 tive
DESCRIPTION:Relatore/i: Il Dott. Luca Filippo Maria Stucchi è Direttore Ge
 nerale dell’ASST Lariana dal 1° gennaio 2024. Manager della sanità con
  consolidata esperienza nel sistema sanitario pubblico\, ha ricoperto in p
 recedenza incarichi di vertice\, tra cui Direttore Amministrativo di AREU 
 – Agenzia Regionale Emergenza Urgenza. È responsabile della gestione co
 mplessiva dei servizi sanitari e sociosanitari della provincia di Como. 
  
URL:https://insubrico.org/it/agenda/show/212268
DTSTART;TZID=Europe/Zurich:20260428T200000
DTEND;TZID=Europe/Zurich:20260428T223000
LOCATION:Golf Club Carimate\, Via Airoldi 2\, 22060 Carimate (CO)\, Italia
CATEGORIES:Rotary
END:VEVENT
BEGIN:VTIMEZONE
TZID:Europe/Zurich
BEGIN:DAYLIGHT
DTSTART:20260428T200000
TZNAME:CEST
TZOFFSETTO:+0200
TZOFFSETFROM:+0200
END:DAYLIGHT
END:VTIMEZONE
END:VCALENDAR
