BEGIN:VCALENDAR
PRODID:-//eluceo/ical//2.0/EN
VERSION:2.0
CALSCALE:GREGORIAN
BEGIN:VEVENT
UID:42987bdf4415ee917900520d80a99a8b
DTSTAMP:20260421T085331Z
SUMMARY:[RC Erba Laghi] Conviviale con Silvio Garattini
DESCRIPTION:Sito web: https://www.hotelcastellodicasiglio.it/\nRelatore/i: 
 Silvio Angelo Garattini (Bergamo\, 1928) è oncologo\, farmacologo e ricer
 catore italiano\, fondatore e Presidente dell’Istituto di Ricerche Farma
 cologiche “Mario Negri”\, uno dei più importanti centri di ricerca in
 dipendente in Europa. Laureato in Medicina e Chirurgia\, ha dedicato l’
 intera carriera allo studio dei farmaci\, della loro efficacia e del loro 
 corretto utilizzo. Ha fondato l’Istituto Mario Negri nei primi anni Sess
 anta e lo ha diretto per oltre cinquant’anni\, contribuendo alla formazi
 one di migliaia di ricercatori.È autore di centinaia di pubblicazioni sci
 entifiche e di numerosi volumi di divulgazione\, ed è stato membro e pres
 idente di importanti organismi scientifici nazionali e internazionali\, tr
 a cui l’Organizzazione Mondiale della Sanità\, l’Agenzia Italiana del
  Farmaco e il Consiglio Superiore di Sanità. \n\n\nAncora oggi è una fi
 gura centrale nel dibattito pubblico su sanità\, prevenzione e sostenibil
 ità dei sistemi di cura\, noto per il suo approccio rigoroso\, indipenden
 te e orientato al bene collettivo.
URL:https://insubrico.org/it/agenda/show/211561
DTSTART;TZID=Europe/Zurich:20260324T200000
DTEND;TZID=Europe/Zurich:20260324T223000
LOCATION:Castello di Casiglio\, Via Cesare Cantù\, 21\, 22036 Erba\, Itali
 a
CATEGORIES:Rotary
END:VEVENT
BEGIN:VTIMEZONE
TZID:Europe/Zurich
BEGIN:STANDARD
DTSTART:20260324T200000
TZNAME:CET
TZOFFSETTO:+0100
TZOFFSETFROM:+0100
END:STANDARD
END:VTIMEZONE
END:VCALENDAR
