BEGIN:VCALENDAR
PRODID:-//eluceo/ical//2.0/EN
VERSION:2.0
CALSCALE:GREGORIAN
BEGIN:VEVENT
UID:ad5279e0bcc7faccfeb4a13b22974c40
DTSTAMP:20260419T153233Z
SUMMARY:[RC Como] Vivere la Scienza: Tecnologia\, lettura e inclusione
DESCRIPTION:Sito web: https://teatrosocialecomo.it/\nRelatore/i: Cristina M
 ussinelli è Segretario generale della Fondazione LIA – Libri Italiani A
 ccessibili\, organizzazione di riferimento a livello nazionale e internazi
 onale nel campo dell’editoria digitale accessibile. Da anni si occupa d
 i accessibilità dei contenuti editoriali e digitali\, lavorando alla defi
 nizione e diffusione di standard\, modelli e buone pratiche per garantire 
 l’accesso alla lettura e alla conoscenza alle persone con disabilità vi
 sive e con difficoltà di lettura. Nel suo ruolo in Fondazione LIA\, coord
 ina progetti che coinvolgono editori\, istituzioni culturali e operatori d
 el settore digitale\, promuovendo un approccio all’accessibilità inteso
  come parte integrante della qualità editoriale e dell’innovazione. \n
 \n\nNel suo intervento a Como\, Mussinelli porta una prospettiva che unisc
 e competenza tecnica\, visione culturale e responsabilità sociale\, mostr
 ando come l’accessibilità non riguardi solo gli specialisti\, ma tutte 
 le figure coinvolte nella produzione e diffusione dei contenuti.
URL:https://insubrico.org/it/agenda/show/211543
DTSTART;TZID=Europe/Zurich:20260326T180000
DTEND;TZID=Europe/Zurich:20260326T200000
LOCATION:Teatro sociale di Como\, Via Bellini\, 1\, 1. piano\, 22100 Como\,
  Italia
CATEGORIES:Rotary
END:VEVENT
BEGIN:VTIMEZONE
TZID:Europe/Zurich
BEGIN:STANDARD
DTSTART:20260326T180000
TZNAME:CET
TZOFFSETTO:+0100
TZOFFSETFROM:+0100
END:STANDARD
END:VTIMEZONE
END:VCALENDAR
