BEGIN:VCALENDAR
PRODID:-//eluceo/ical//2.0/EN
VERSION:2.0
CALSCALE:GREGORIAN
BEGIN:VEVENT
UID:ab349fbf1aba0dd38acc78dc16c8eb9e
DTSTAMP:20260419T134732Z
SUMMARY:[RC Lugano] Un confronto aperto con Marina Masoni: Azienda\, Politi
 ca\, Moda
DESCRIPTION:Sito web: https://www.leopoldohotel.com/it/\nRelatore/i: Marina
  Masoni – Avvocato\, già Consigliera di Stato\, Presidente di TicinoMod
 aAvvocato e nota figura istituzionale\, è stata per due legislature Diret
 trice del Dipartimento delle finanze e dell’economia del Canton Ticino\,
  contribuendo in modo determinante allo sviluppo della piazza economica ca
 ntonale. Attiva nel mondo associativo e imprenditoriale\, presiede TicinoM
 oda\, dove promuove l’innovazione e la competitività di un settore chia
 ve per il territorio. La sua esperienza unisce diritto\, politica\, econom
 ia e una profonda conoscenza del tessuto imprenditoriale locale.Gianfranco
  De Santis – Giornalista\n\n\nProfessionista dei media con una lunga esp
 erienza nel giornalismo televisivo e nella conduzione di dibattiti pubblic
 i. È noto per la sua capacità di affrontare temi complessi con chiarezza
 \, rigore e sensibilità\, rendendolo l’interlocutore ideale per un conf
 ronto ad ampio raggio.
URL:https://insubrico.org/it/agenda/show/211096
DTSTART;TZID=Europe/Zurich:20260420T191500
DTEND;TZID=Europe/Zurich:20260420T223000
LOCATION:Hotel villa Principe Leopoldo\, Via Montalbano 5\, 6900 Lugano\, S
 vizzera
CATEGORIES:Rotary
END:VEVENT
BEGIN:VTIMEZONE
TZID:Europe/Zurich
BEGIN:DAYLIGHT
DTSTART:20260420T191500
TZNAME:CEST
TZOFFSETTO:+0200
TZOFFSETFROM:+0200
END:DAYLIGHT
END:VTIMEZONE
END:VCALENDAR
