BEGIN:VCALENDAR
PRODID:-//eluceo/ical//2.0/EN
VERSION:2.0
CALSCALE:GREGORIAN
BEGIN:VEVENT
UID:71cdf2878ec277484b2c2d887cb01635
DTSTAMP:20260423T092003Z
SUMMARY:[RC Bellinzona] Presentazione del progetto Ospedale La Saleggina
DESCRIPTION:Relatore/i: Andrea Bersani è Vice‑Presidente del Consiglio d
 i Amministrazione dell’Ente Ospedaliero Cantonale (EOC)\, dove contribui
 sce alla definizione delle strategie di sviluppo del sistema ospedaliero t
 icinese. Con una lunga esperienza nella gestione di istituzioni pubbliche 
 e nella pianificazione sanitaria\, è coinvolto in progetti strutturali di
  grande rilevanza per il Cantone\, tra cui il nuovo Ospedale La Saleggina\
 , che rappresenta una tappa fondamentale nell’evoluzione dell’offerta 
 clinica e organizzativa del Bellinzonese.\nApprezzato per la sua visione p
 ragmatica e la capacità di comunicare temi complessi con chiarezza\, Bers
 ani porta uno sguardo competente e aggiornato sulle sfide e le opportunit
 à della sanità ticinese.
URL:https://insubrico.org/it/agenda/show/210317
DTSTART;TZID=Europe/Zurich:20260311T191500
DTEND;TZID=Europe/Zurich:20260311T213000
LOCATION:Albergo‑Ristorante Unione\, Via Henri Guisan 4\, 6500 Bellinzona
CATEGORIES:Rotary
END:VEVENT
BEGIN:VTIMEZONE
TZID:Europe/Zurich
BEGIN:STANDARD
DTSTART:20260311T191500
TZNAME:CET
TZOFFSETTO:+0100
TZOFFSETFROM:+0100
END:STANDARD
END:VTIMEZONE
END:VCALENDAR
