BEGIN:VCALENDAR
PRODID:-//eluceo/ical//2.0/EN
VERSION:2.0
CALSCALE:GREGORIAN
BEGIN:VEVENT
UID:47f5ca730d96438b700674e2bd417fab
DTSTAMP:20260419T135258Z
SUMMARY:[RC Locarno] L’evoluzione degli sport nell’architettura
DESCRIPTION:Relatore/i: Michele Zago è un architetto attivo nel panorama t
 icinese e svizzero\, con esperienza nella progettazione di spazi pubblici 
 e infrastrutture sportive. La sua attività si concentra sull’integrazio
 ne tra funzionalità\, estetica e sostenibilità\, con particolare attenzi
 one al ruolo sociale dell’architettura. Ha partecipato a progetti e stud
 i dedicati alla trasformazione degli impianti sportivi e alla loro evoluzi
 one come luoghi di aggregazione\, innovazione e identità urbana.
URL:https://insubrico.org/it/agenda/show/210316
DTSTART;TZID=Europe/Zurich:20260519T191500
DTEND;TZID=Europe/Zurich:20260519T213000
LOCATION:Hotel Belvedere\, Via ai Monti della Trinità 44\, 6600 Locarno
CATEGORIES:Rotary
END:VEVENT
BEGIN:VTIMEZONE
TZID:Europe/Zurich
BEGIN:DAYLIGHT
DTSTART:20260519T191500
TZNAME:CEST
TZOFFSETTO:+0200
TZOFFSETFROM:+0200
END:DAYLIGHT
END:VTIMEZONE
END:VCALENDAR
