BEGIN:VCALENDAR
PRODID:-//eluceo/ical//2.0/EN
VERSION:2.0
CALSCALE:GREGORIAN
BEGIN:VEVENT
UID:8d20ca331abb81bf123303110e33b07d
DTSTAMP:20260419T135031Z
SUMMARY:[RC Locarno] Sfide moderne della chirurgia
DESCRIPTION:Relatore/i: Agostino Mattei è un chirurgo di lunga esperienza\
 , attivo in ambito clinico e formativo\, con competenze che spaziano dalla
  chirurgia generale alle tecniche mininvasive e robotiche. Ha ricoperto ru
 oli di responsabilità in strutture ospedaliere ticinesi\, contribuendo al
 lo sviluppo di percorsi chirurgici moderni e all’introduzione di tecnolo
 gie avanzate. È riconosciuto per la sua attenzione alla qualità delle cu
 re\, alla sicurezza del paziente e alla formazione delle nuove generazioni
  di medici. La sua attività unisce pratica clinica\, aggiornamento scient
 ifico e una visione aperta sulle sfide future della chirurgia.
URL:https://insubrico.org/it/agenda/show/210315
DTSTART;TZID=Europe/Zurich:20260505T191500
DTEND;TZID=Europe/Zurich:20260505T213000
LOCATION:Hotel Belvedere\, Via ai Monti della Trinità 44\, 6600 Locarno
CATEGORIES:Rotary
END:VEVENT
BEGIN:VTIMEZONE
TZID:Europe/Zurich
BEGIN:DAYLIGHT
DTSTART:20260505T191500
TZNAME:CEST
TZOFFSETTO:+0200
TZOFFSETFROM:+0200
END:DAYLIGHT
END:VTIMEZONE
END:VCALENDAR
