BEGIN:VCALENDAR
PRODID:-//eluceo/ical//2.0/EN
VERSION:2.0
CALSCALE:GREGORIAN
BEGIN:VEVENT
UID:68c7a0659e9b339da315473e069d1890
DTSTAMP:20260425T130915Z
SUMMARY:[RC Erba Laghi] HOLLYWOOD: Ciak\, si Crea!
DESCRIPTION:Sito web: https://www.hotelcastellodicasiglio.it/\nRelatore/i: 
 Mezzani Film Production è una casa di produzione indipendente con oltre q
 uarant’anni di attività nel mondo della fiction cinematografica\, itali
 ana e internazionale. Nata come realtà artigianale e cresciuta nel tempo 
 grazie alla qualità delle sue produzioni\, la Mezzani si distingue per la
  capacità di unire creatività\, competenza tecnica e una forte attenzion
 e ai contenuti narrativi.\nNel corso della sua storia ha collaborato con r
 egisti\, sceneggiatori\, musicisti e interpreti provenienti da diversi Pae
 si\, realizzando film e progetti audiovisivi che spaziano dal dramma alla 
 commedia\, fino ai docu‑film. La sua missione non è solo raccontare sto
 rie capaci di emozionare e intrattenere\, ma anche sostenere iniziative so
 ciali\, destinando parte dei proventi delle produzioni a progetti di solid
 arietà e sviluppo culturale.
URL:https://insubrico.org/it/agenda/show/210082
DTSTART;TZID=Europe/Zurich:20260219T200000
DTEND;TZID=Europe/Zurich:20260219T223000
LOCATION:Castello di Casiglio\, Via Cesare Cantù\, 21\, 22036 Erba\, Itali
 a
CATEGORIES:Rotary
END:VEVENT
BEGIN:VTIMEZONE
TZID:Europe/Zurich
BEGIN:STANDARD
DTSTART:20260219T200000
TZNAME:CET
TZOFFSETTO:+0100
TZOFFSETFROM:+0100
END:STANDARD
END:VTIMEZONE
END:VCALENDAR
