BEGIN:VCALENDAR
PRODID:-//eluceo/ical//2.0/EN
VERSION:2.0
CALSCALE:GREGORIAN
BEGIN:VEVENT
UID:27b03968648ccc7a73b950d40b279a2f
DTSTAMP:20260421T095748Z
SUMMARY:[RC Lugano] Serata del bollito misto
DESCRIPTION:Sito web: https://www.leopoldohotel.com/it/
URL:https://insubrico.org/it/agenda/show/208848
DTSTART;TZID=Europe/Zurich:20260209T191500
DTEND;TZID=Europe/Zurich:20260209T223000
LOCATION:Hotel villa Principe Leopoldo\, Via Montalbano 5\, 6900 Lugano\, S
 vizzera
CATEGORIES:Rotary
END:VEVENT
BEGIN:VTIMEZONE
TZID:Europe/Zurich
BEGIN:STANDARD
DTSTART:20260209T191500
TZNAME:CET
TZOFFSETTO:+0100
TZOFFSETFROM:+0100
END:STANDARD
END:VTIMEZONE
END:VCALENDAR
