BEGIN:VCALENDAR
PRODID:-//eluceo/ical//2.0/EN
VERSION:2.0
CALSCALE:GREGORIAN
BEGIN:VEVENT
UID:efa873f56896819020dac93c5e8c6bc0
DTSTAMP:20260425T113046Z
SUMMARY:[IN Città dei Laghi] Accessibilità del Ticino e le infrastrutture
  aeroportuali della Città dei Laghi
DESCRIPTION:
URL:https://insubrico.org/it/agenda/show/208841
DTSTART;TZID=Europe/Zurich:20260121T180000
DTEND;TZID=Europe/Zurich:20260121T193000
LOCATION:Sala Carlo Cattaneo\, Via Ferruccio Pelli 16\, 6900 Lugano
CATEGORIES:Rotary
END:VEVENT
BEGIN:VTIMEZONE
TZID:Europe/Zurich
BEGIN:STANDARD
DTSTART:20260121T180000
TZNAME:CET
TZOFFSETTO:+0100
TZOFFSETFROM:+0100
END:STANDARD
END:VTIMEZONE
END:VCALENDAR
