BEGIN:VCALENDAR
PRODID:-//eluceo/ical//2.0/EN
VERSION:2.0
CALSCALE:GREGORIAN
BEGIN:VEVENT
UID:a34a60bc2db1309827d46c010201f98c
DTSTAMP:20260422T121643Z
SUMMARY:[RC Lomazzo] L'evoluzione tecnica di Nadal
DESCRIPTION:Relatore/i: Stefano Maffei è un giornalista sportivo che scriv
 e per Tennis Magazine Italia. È noto per i suoi articoli approfonditi e a
 nalisi tecniche sul mondo del tennis\, con particolare attenzione ai grand
 i campioni. 
URL:https://insubrico.org/it/agenda/show/194825
DTSTART;TZID=Europe/Zurich:20250605T200000
DTEND;TZID=Europe/Zurich:20250605T230000
LOCATION:sede da definire
CATEGORIES:Rotary
END:VEVENT
BEGIN:VTIMEZONE
TZID:Europe/Zurich
BEGIN:DAYLIGHT
DTSTART:20250605T200000
TZNAME:CEST
TZOFFSETTO:+0200
TZOFFSETFROM:+0200
END:DAYLIGHT
END:VTIMEZONE
END:VCALENDAR
