BEGIN:VCALENDAR
PRODID:-//eluceo/ical//2.0/EN
VERSION:2.0
CALSCALE:GREGORIAN
BEGIN:VEVENT
UID:ea25fa1d4a5b31a580388e8440c1df6f
DTSTAMP:20260421T222347Z
SUMMARY:[RC Varese Ceresio / Lugano Lago] Festa di Estate
DESCRIPTION:
URL:https://insubrico.org/it/agenda/show/181377
DTSTART;TZID=Europe/Zurich:20240710T200000
DTEND;TZID=Europe/Zurich:20240710T220000
LOCATION:Grotto Posmonte Via Posmonte 9 · 6927 Agra
CATEGORIES:Rotary
END:VEVENT
BEGIN:VTIMEZONE
TZID:Europe/Zurich
BEGIN:DAYLIGHT
DTSTART:20240710T200000
TZNAME:CEST
TZOFFSETTO:+0200
TZOFFSETFROM:+0200
END:DAYLIGHT
END:VTIMEZONE
END:VCALENDAR
