BEGIN:VCALENDAR
PRODID:-//eluceo/ical//2.0/EN
VERSION:2.0
CALSCALE:GREGORIAN
BEGIN:VEVENT
UID:8dfa385ee4ff25b30c2e8560dfb907d5
DTSTAMP:20260422T000952Z
SUMMARY:[RC Appiano Gentile] Festa di inizio estate
DESCRIPTION:
URL:https://insubrico.org/it/agenda/show/180926
DTSTART;TZID=Europe/Zurich:20240705T200000
DTEND;TZID=Europe/Zurich:20240705T223000
LOCATION:AGRICOLA GUARISCO-SAN FERMO DELLA BATTAGLIA - VIA VAL GRANDE 13
CATEGORIES:Rotary
END:VEVENT
BEGIN:VTIMEZONE
TZID:Europe/Zurich
BEGIN:DAYLIGHT
DTSTART:20240705T200000
TZNAME:CEST
TZOFFSETTO:+0200
TZOFFSETFROM:+0200
END:DAYLIGHT
END:VTIMEZONE
END:VCALENDAR
