BEGIN:VCALENDAR
PRODID:-//eluceo/ical//2.0/EN
VERSION:2.0
CALSCALE:GREGORIAN
BEGIN:VEVENT
UID:4888434b0618a74a11fb7f118e96f314
DTSTAMP:20260422T014534Z
SUMMARY:[RC Lugano] Grigliata da Arturo Bolliger
DESCRIPTION:
URL:https://insubrico.org/it/agenda/show/180890
DTSTART;TZID=Europe/Zurich:20240701T190000
DTEND;TZID=Europe/Zurich:20240701T230000
LOCATION:Via industria 61\, Caslano\; Ricordare traffico per raggiungere la
  location
CATEGORIES:Rotary
END:VEVENT
BEGIN:VTIMEZONE
TZID:Europe/Zurich
BEGIN:DAYLIGHT
DTSTART:20240701T190000
TZNAME:CEST
TZOFFSETTO:+0200
TZOFFSETFROM:+0200
END:DAYLIGHT
END:VTIMEZONE
END:VCALENDAR
