BEGIN:VCALENDAR
PRODID:-//eluceo/ical//2.0/EN
VERSION:2.0
CALSCALE:GREGORIAN
BEGIN:VEVENT
UID:02c5a540c42a93d15a24bf7a51d06f93
DTSTAMP:20260425T214517Z
SUMMARY:[RC Como] COMO CITTA DELLA SCIENZA DA VOLTA AD OGGI
DESCRIPTION:Sito web: https://teatrosocialecomo.it/\nRelatore/i: Prof. Giul
 io Casati (Brenna\, 10 dicembre 1942) è un fisico italiano\, noto pe
 r i suoi contributi alla teoria del caos classico e quantistico.Casati h
 a conseguito la laurea presso l'Università degli Studi di Milano sotto l
 a supervisione di Piero Caldirola nel 1968\, e dopo alcune esperienze in
  Italia e all'estero\, nel 1973 è diventato professore associato all'Univ
 ersità di Milano\, e nel 1987 ordinario. È stato poi uno dei fondatori n
 el 1998 del nuovo ateneo di Como\, ossia l'Università degli Studi dell'I
 nsubria\, dove è stato rettore vicario dal 1998 al 2001.[1] A Como\, anc
 ora prima della fondazione del nuovo ateneo\, ha fondato il Center for Non
 linear and Complex Systems. È anche affiliato alla National University o
 f Singapore e all' Istituto Internazionale di Fisica dell'Università Fed
 erale del Rio Grande do Norte in Brasile.[2]Casati ha inoltre lavorato m
 olto per sviluppare le attività scientifiche nel capoluogo comasco\, dove
  ha contribuito a fondare il Centro di Cultura Scientifica della Fondazion
 e Alessandro Volta e la Lake Como School of Advanced Studies.[3] È andat
 o in pensione dall'Università nel 2014 come professore emerito e presiden
 te onorario del Center for Nonlinear and Complex Systems.[4]Giulio Casati 
 ha ricevuto nel 2008 il Premio Enrico Fermi della Società italiana di 
 fisica[5] e nel 2010 il Premio Internazionale «Luigi Tartufari» per la 
 Fisica dell'Accademia Nazionale dei Lincei\,[6] ed è stato eletto membro
  dell'Academia Europæa[7] e dell'Accademia europea delle scienze e delle
  arti[8]
URL:https://insubrico.org/it/agenda/show/176757
DTSTART;TZID=Europe/Zurich:20240418T194500
DTEND;TZID=Europe/Zurich:20240418T223000
LOCATION:Teatro sociale di Como\, Via Bellini\, 1\, 1. piano\, 22100 Como\,
  Italia
CATEGORIES:Rotary
END:VEVENT
BEGIN:VTIMEZONE
TZID:Europe/Zurich
BEGIN:DAYLIGHT
DTSTART:20240418T194500
TZNAME:CEST
TZOFFSETTO:+0200
TZOFFSETFROM:+0200
END:DAYLIGHT
END:VTIMEZONE
END:VCALENDAR
