BEGIN:VCALENDAR
PRODID:-//eluceo/ical//2.0/EN
VERSION:2.0
CALSCALE:GREGORIAN
BEGIN:VEVENT
UID:5d501c76178e85cb7cf54555da5eac2e
DTSTAMP:20260423T115645Z
SUMMARY:[RC Como Baradello] "Svizzera la potenza nascosta" - Presentazione 
 dell'ultimo numero di Limes e considerazioni sull'attuale politica mondial
 e.
DESCRIPTION:Relatore/i: Lucio Caracciolo (Roma\, 7 febbraio 1954) è un
  giornalista italiano\, fondatore e direttore della rivista italiana di
  geopolitica Limes.Laureato in filosofia all'Università La Sapienza 
 di Roma\, dal 1973 al 1975 è redattore di Nuova Generazione (periodico
  della FGCI)\, poi passa a la Repubblica\, dove lavora dal 1976 al 1983 
 come cronista politico\, diventando capo della redazione politica. Dal 197
 9 è giornalista professionista\, iscritto all'Ordine dei giornalisti de
 l Lazio. È stato caporedattore di MicroMega dal 1986 al 1995.Scrive ed
 itoriali e commenti di politica estera per il Gruppo Editoriale L'Espress
 o. Ha scritto diversi saggi\, alcuni dei quali sono stati pubblicati anche
  in altri paesi.Attualmente dirige la rivista geopolitica Limes\, da lui 
 fondata nel 1993\, e la Eurasian Review of Geopolitics Heartland\, nata n
 el 2000. È membro del comitato scientifico della Fondazione Italia USA.[
 3]Nel 2002 ha condotto insieme a Silvestro Montanaro il programma televisi
 vo C'era una volta - Dagli Appennini alle Ande in onda su Rai 3\, in cu
 i i grandi temi politici\, economici e sociali del nuovo millennio venivan
 o affrontati assieme agli ospiti che si avvicendavano settimanalmente.(da 
 Wikipedia)
URL:https://insubrico.org/it/agenda/show/173730
DTSTART;TZID=Europe/Zurich:20240202T210000
DTEND;TZID=Europe/Zurich:20240202T223000
LOCATION:Auditorium “Giuseppe Scacchi”\, Camera di Commercio di Como-Le
 cco\, via Parini 16 - Como
CATEGORIES:Rotary
END:VEVENT
BEGIN:VTIMEZONE
TZID:Europe/Zurich
BEGIN:STANDARD
DTSTART:20240202T210000
TZNAME:CET
TZOFFSETTO:+0100
TZOFFSETFROM:+0100
END:STANDARD
END:VTIMEZONE
END:VCALENDAR
