BEGIN:VCALENDAR
PRODID:-//eluceo/ical//2.0/EN
VERSION:2.0
CALSCALE:GREGORIAN
BEGIN:VEVENT
UID:9ac3e40c57502f4ba098003b704e4ca8
DTSTAMP:20260423T120215Z
SUMMARY:[RC Cantù] Clima\, Eco sostenibilità e Ambiente. Verità\, Bugie 
 o Propaganda?
DESCRIPTION:Relatore/i: Prof. Franco BattagliaEditorialista de "Il Giornale
 " dal 1999 al 2021\, ora de "La Verità".È stato professore di Chimica Te
 orica e Chimica Fisica nelle università della Basilicata\, Roma Tre e Mod
 ena.Ha svolto attività di ricerca in Germania presso il Max Plank Institu
 te\, presso la Columbia University (USA) e alla seconda università di Rom
 a.Il prof. Battaglia sostiene la petizione (2019)inviata all'ONU da mille 
 scienziati\, primo firmatario il Nobel per la fisica Ivar Giaever\, e la p
 etizione di duecento scienziati italiani rivolta al presidente della Repub
 blica sul riscaldamento globale antropico\, il cui primo firmatario è il 
 prof. Antonio Zichichi.(fonte: RC Cantù)
URL:https://insubrico.org/it/agenda/show/173049
DTSTART;TZID=Europe/Zurich:20240130T200000
DTEND;TZID=Europe/Zurich:20240130T223000
LOCATION:Golf Club Carimate via Arioldi\, 2 Carimate CO
CATEGORIES:Rotary
END:VEVENT
BEGIN:VTIMEZONE
TZID:Europe/Zurich
BEGIN:STANDARD
DTSTART:20240130T200000
TZNAME:CET
TZOFFSETTO:+0100
TZOFFSETFROM:+0100
END:STANDARD
END:VTIMEZONE
END:VCALENDAR
