BEGIN:VCALENDAR
PRODID:-//eluceo/ical//2.0/EN
VERSION:2.0
CALSCALE:GREGORIAN
BEGIN:VEVENT
UID:f1853f05fd39717f9066f690d7b72f5d
DTSTAMP:20260423T120022Z
SUMMARY:[RC Varese Ceresio] 13° Trofeo Golf in aiuto all'Emilia Romagna
DESCRIPTION:Sito web: https://www.golfclubvarese.it/
URL:https://insubrico.org/it/agenda/show/168223
DTSTART;TZID=Europe/Zurich:20231109T123000
DTEND;TZID=Europe/Zurich:20231109T223000
LOCATION:Golf Club Varese\, Viale Vittorio Veneto\, 59\, 21020 Luvinate\, I
 talia
CATEGORIES:Rotary
END:VEVENT
BEGIN:VTIMEZONE
TZID:Europe/Zurich
BEGIN:STANDARD
DTSTART:20231109T123000
TZNAME:CET
TZOFFSETTO:+0100
TZOFFSETFROM:+0100
END:STANDARD
END:VTIMEZONE
END:VCALENDAR
