BEGIN:VCALENDAR
PRODID:-//eluceo/ical//2.0/EN
VERSION:2.0
CALSCALE:GREGORIAN
BEGIN:VEVENT
UID:b57975ff043658ea37571232aae0657f
DTSTAMP:20260419T114543Z
SUMMARY:[RC Lugano] La medicina di genere
DESCRIPTION:Sito web: https://www.leopoldohotel.com/it/\nRelatore/i: La Dr
 .med. - cardiologia FMH Susanna Grego ha ottenuto la LaureainMedicinaeChi
 rurgia presso l'Università di Milano\, e la SpecializzazioneinCardiologi
 a presso l'UniversitàCattolicadelSacroCuore di Roma.Attualmente è Medic
 oCapo Clinica dell'unitàmalattiecardiovascolarirare\nServiziodiCardiologi
 a\,Cardiocentro Ticino\,Lugano\,Svizzera
URL:https://insubrico.org/it/agenda/show/163974
DTSTART;TZID=Europe/Zurich:20231023T191500
DTEND;TZID=Europe/Zurich:20231023T223000
LOCATION:Hotel villa Principe Leopoldo\, Via Montalbano 5\, 6900 Lugano\, S
 vizzera
CATEGORIES:Rotary
END:VEVENT
BEGIN:VTIMEZONE
TZID:Europe/Zurich
BEGIN:DAYLIGHT
DTSTART:20231023T191500
TZNAME:CEST
TZOFFSETTO:+0200
TZOFFSETFROM:+0200
END:DAYLIGHT
END:VTIMEZONE
END:VCALENDAR
