BEGIN:VCALENDAR
PRODID:-//eluceo/ical//2.0/EN
VERSION:2.0
CALSCALE:GREGORIAN
BEGIN:VEVENT
UID:92c95c879d18de4449c1722f317c2f1c
DTSTAMP:20260423T115758Z
SUMMARY:(Appiano Gentile) Serata con Silvia Annichiarico
DESCRIPTION:Sito web: https://www.lancora.co.it/\nRelatore/i: Dopo aver con
 seguito la maturità linguistica\, ha iniziato la sua carriera artistica n
 el gruppo I 4 + 4 di Nora Orlandi ed ha in seguito collaborato come voca
 list con altri artisti\, come Mina\, Lucio Battisti e Giorgio Gaber. 
 È approdata in tv nella trasmissione di Renzo Arbore L'altra domenica 
 dal 1976 al 1979 per interpretarvi il ruolo dell'inviata. Il suo momento d
 i maggior popolarità è stato nel 1985 grazie alla sua partecipazione al 
 programma di Renzo Arbore Quelli della notte in cui si esibiva come soli
 sta nell'acuto "mi fai dir sempre sì" della sigla. Con Arbore ha lavorato
  anche nel cinema\, nel 1980\, facendosi da lui dirigere nel film Il pap'
 occhio. In seguito è apparsa in altri film.Nel 2001 e nel 2003 ha interpr
 etato la dottoressa Ersilia Visconti nella soap opera Incantesimo\, con 
 Paolo Malco. Nella sua carriera radiofonica\, dopo aver condotto per un an
 no e mezzo su RTL 102.5\, con Angelo Di Benedetto\, Tre-sei (in onda ne
 l fine settimana tra le 3 e le 6)\, da settembre 2007 è passata a condurr
 e Protagonisti (dal lunedì al giovedì dalle 19 alle 21) e da gennaio 2
 008 è nel cast del programma del mattino La famiglia su RTL 102.5. Cond
 uce inoltre il programma Ma la notte no\, con Nino Mazzarino\, nel fine s
 ettimana notturno.Ha collaborato con Luciano Tajoli\, Enzo Jannacci\, O
 rnella Vanoni\, Nikka Costa\, Al Bano e Romina Power.
URL:https://insubrico.org/it/agenda/show/159922
DTSTART;TZID=Europe/Zurich:20230525T200000
DTEND;TZID=Europe/Zurich:20230525T223000
LOCATION:Cooperativa L'ancora - Via Monterotondo 14 - Lurate Caccivio
CATEGORIES:Rotary
END:VEVENT
BEGIN:VTIMEZONE
TZID:Europe/Zurich
BEGIN:DAYLIGHT
DTSTART:20230525T200000
TZNAME:CEST
TZOFFSETTO:+0200
TZOFFSETFROM:+0200
END:DAYLIGHT
END:VTIMEZONE
END:VCALENDAR
