BEGIN:VCALENDAR
PRODID:-//eluceo/ical//2.0/EN
VERSION:2.0
CALSCALE:GREGORIAN
BEGIN:VEVENT
UID:cd3c9bd7fdb5e09b3fb052e406a8127a
DTSTAMP:20260419T175857Z
SUMMARY:[RC Cantù / Erba] New Trends in the Decarbonization of the Transpo
 rt Sector
DESCRIPTION:Fyrirlesari(ar): Relatore: Prof. Luca Lietti\nProfessore Ordina
 rio di Ingegneria Chimica – Politecnico di Milano\nEvento proposto dal s
 ocio Iacopo Guerini\nIl Rotary Club Erba è lieto di ospitare il Prof. Luc
 a Lietti per una serata dedicata alle sfide e alle opportunità della tran
 sizione energetica nel settore dei trasporti. Dalla ricerca sui nuovi carb
 uranti alle tecnologie emergenti per la decarbonizzazione\, il relatore of
 frirà una panoramica aggiornata e stimolante su uno dei temi più urgenti
  del nostro tempo.
URL:https://insubrico.org/is/agenda/show/205724
DTSTART;TZID=Europe/Zurich:20251118T200000
DTEND;TZID=Europe/Zurich:20251118T223000
LOCATION:Golf Club Carimate\, Via Airoldi 2\, 22060 Carimate (CO)\, Italia
CATEGORIES:Rotary
END:VEVENT
BEGIN:VTIMEZONE
TZID:Europe/Zurich
BEGIN:STANDARD
DTSTART:20251118T200000
TZNAME:CET
TZOFFSETTO:+0100
TZOFFSETFROM:+0100
END:STANDARD
END:VTIMEZONE
END:VCALENDAR
