BEGIN:VCALENDAR
PRODID:-//eluceo/ical//2.0/EN
VERSION:2.0
CALSCALE:GREGORIAN
BEGIN:VEVENT
UID:b6cce65d5bfefd42135aca3a1db189b6
DTSTAMP:20260419T141858Z
SUMMARY:[RC Locarno] Il Patto di Locarno: Diplomazia e Memoria Storica
DESCRIPTION:Fyrirlesari(ar): Relatore: Dr. Marino Viganò\nStorico e polito
 logo\, Viganò è uno dei massimi esperti di storia militare e diplomatica
  del Novecento. Laureato all’Università Cattolica di Milano e dottore i
 n storia militare a Padova\, ha collaborato con la Commissione Svizzera su
 lla Seconda Guerra Mondiale e la Commissione italiana sulla spoliazione de
 i beni ebraici. Ha curato importanti pubblicazioni storiche e dirige una f
 ondazione milanese dedicata alla memoria storica.
URL:https://insubrico.org/is/agenda/show/203196
DTSTART;TZID=Europe/Zurich:20251118T183000
DTEND;TZID=Europe/Zurich:20251118T223000
LOCATION:Hotel Belvedere\, Via ai Monti della Trinità 44\, 6600 Locarno
CATEGORIES:Rotary
END:VEVENT
BEGIN:VTIMEZONE
TZID:Europe/Zurich
BEGIN:STANDARD
DTSTART:20251118T183000
TZNAME:CET
TZOFFSETTO:+0100
TZOFFSETFROM:+0100
END:STANDARD
END:VTIMEZONE
END:VCALENDAR
