BEGIN:VCALENDAR
PRODID:-//eluceo/ical//2.0/EN
VERSION:2.0
CALSCALE:GREGORIAN
BEGIN:VEVENT
UID:98bfdcb2f28071b7171ed4fcade4ae82
DTSTAMP:20260422T084305Z
SUMMARY:[RC Varese] Ugo Savoia. “Il Corpo di Mussolini”
DESCRIPTION:Fyrirlesari(ar):  Ugo Savoia è un giornalista e scrittore ita
 liano. È stato direttore del Corriere del Veneto e primo responsabile del
 l’edizione online del Corriere della Sera nel 2000. Ha lavorato per La N
 otte\, Il Giornale e Il Sole 24 Ore. Dal 2018 coordina il Master in Giorna
 lismo dell’Università IULM. Ha pubblicato Bombe su Milano e Dalla parte
  giusta  
URL:https://insubrico.org/is/agenda/show/196138
DTSTART;TZID=Europe/Zurich:20250605T203000
DTEND;TZID=Europe/Zurich:20250605T223000
LOCATION:Villa San Martino - Via Ferruccio Bolchini\, 24\, Barasso
CATEGORIES:Rotary
END:VEVENT
BEGIN:VTIMEZONE
TZID:Europe/Zurich
BEGIN:DAYLIGHT
DTSTART:20250605T203000
TZNAME:CEST
TZOFFSETTO:+0200
TZOFFSETFROM:+0200
END:DAYLIGHT
END:VTIMEZONE
END:VCALENDAR
