BEGIN:VCALENDAR
PRODID:-//eluceo/ical//2.0/EN
VERSION:2.0
CALSCALE:GREGORIAN
BEGIN:VEVENT
UID:83fe2d052903cebd0b94d8b08d4b1bc9
DTSTAMP:20260420T124733Z
SUMMARY:[RC Lomazzo] Albino Sirsi presenta la sua opera "Oltre il Velo"
DESCRIPTION:Fyrirlesari(ar):  Albino Sirsi è uno scultore e pittore autod
 idatta nato a Campi Salentina nel 1955. È noto per la sua abilità nel la
 vorare il marmo bianco di Carrara\, utilizzando esclusivamente martello e 
 scalpello\, senza l'ausilio di strumenti elettrici. Le sue opere sono cara
 tterizzate da un forte realismo e una drammaticità palpabile\, che cattur
 ano la fragilità umana e il tragico.
URL:https://insubrico.org/is/agenda/show/194826
DTSTART;TZID=Europe/Zurich:20250612T200000
DTEND;TZID=Europe/Zurich:20250612T230000
LOCATION:Tenuta dell'Annunziata\, Via Dante Alighieri\, 13\, 22029 Uggiate 
 con Ronago\, Italia
CATEGORIES:Rotary
END:VEVENT
BEGIN:VTIMEZONE
TZID:Europe/Zurich
BEGIN:DAYLIGHT
DTSTART:20250612T200000
TZNAME:CEST
TZOFFSETTO:+0200
TZOFFSETFROM:+0200
END:DAYLIGHT
END:VTIMEZONE
END:VCALENDAR
