BEGIN:VCALENDAR
PRODID:-//eluceo/ical//2.0/EN
VERSION:2.0
CALSCALE:GREGORIAN
BEGIN:VEVENT
UID:d8072e4d16717c9ab664ca6dab70fe21
DTSTAMP:20260422T084458Z
SUMMARY:[RC Cantu'] Intelligenza artificiale\, incontro con Edoardo Raffiot
 ta
DESCRIPTION:Fyrirlesari(ar): Edoardo Raffiotta è Professore associato pres
 so il Dipartimento di Scienze Economico-aziendali e Diritto per l'Economia
  dell’Università di Milano Bicocca e membro del Centro di ricerca in Pu
 blic Law and Policy della School of Law di Berkeley – University of Cali
 fornia. Inoltre\, ha ricoperto diversi incarichi istituzionali e di govern
 ance\, tra cui Consigliere di Amministrazione del Gruppo Datrix SPA e Comp
 onente del Comitato dei Garanti del Comune di Milano
URL:https://insubrico.org/is/agenda/show/194803
DTSTART;TZID=Europe/Zurich:20250520T200000
DTEND;TZID=Europe/Zurich:20250520T230000
LOCATION:Golf Club Carimate\, Via Airoldi 2\, 22060 Carimate (CO)\, Italia
CATEGORIES:Rotary
END:VEVENT
BEGIN:VTIMEZONE
TZID:Europe/Zurich
BEGIN:DAYLIGHT
DTSTART:20250520T200000
TZNAME:CEST
TZOFFSETTO:+0200
TZOFFSETFROM:+0200
END:DAYLIGHT
END:VTIMEZONE
END:VCALENDAR
