BEGIN:VCALENDAR
PRODID:-//eluceo/ical//2.0/EN
VERSION:2.0
CALSCALE:GREGORIAN
BEGIN:VEVENT
UID:6e2eb0cd92368774c341c449620867ab
DTSTAMP:20260419T120848Z
SUMMARY:[RC Lomazzo] Il cuore al centro
DESCRIPTION:Conférencier(s): Incontro con la dr.ssa Simona Marcora\, cardi
 ologa pediatra presso l'ospedale Niguarda di Milano  Interverrà la Dott.
 ssa Carlotta Ballabio Psicoterapeuta di Studio Pandora  
URL:https://insubrico.org/fr/agenda/show/195652
DTSTART;TZID=Europe/Zurich:20250520T203000
DTEND;TZID=Europe/Zurich:20250520T220000
LOCATION:Aula magna CRI\, via dello Sport\, 7 Lomazzo
CATEGORIES:Rotary
END:VEVENT
BEGIN:VTIMEZONE
TZID:Europe/Zurich
BEGIN:DAYLIGHT
DTSTART:20250520T203000
TZNAME:CEST
TZOFFSETTO:+0200
TZOFFSETFROM:+0200
END:DAYLIGHT
END:VTIMEZONE
END:VCALENDAR
