BEGIN:VCALENDAR
PRODID:-//eluceo/ical//2.0/EN
VERSION:2.0
CALSCALE:GREGORIAN
BEGIN:VEVENT
UID:aecf71c3499caa422b3a4922c2a6b22f
DTSTAMP:20260419T134541Z
SUMMARY:[RC Locarno] Vallemaggia un anno dopo - (con Consorti / Partner)
DESCRIPTION:Conférencier(s): La sindaca di Cevio Wanda DadòChiara Donati
  vicesindaca di Lavizzara
URL:https://insubrico.org/fr/agenda/show/194151
DTSTART;TZID=Europe/Zurich:20250520T183000
DTEND;TZID=Europe/Zurich:20250520T220000
LOCATION:Hotel Belvedere\, Via ai Monti della Trinità 44\, 6600 Locarno
CATEGORIES:Rotary
END:VEVENT
BEGIN:VTIMEZONE
TZID:Europe/Zurich
BEGIN:DAYLIGHT
DTSTART:20250520T183000
TZNAME:CEST
TZOFFSETTO:+0200
TZOFFSETFROM:+0200
END:DAYLIGHT
END:VTIMEZONE
END:VCALENDAR
