BEGIN:VCALENDAR
PRODID:-//eluceo/ical//2.0/EN
VERSION:2.0
CALSCALE:GREGORIAN
BEGIN:VEVENT
UID:fd24c1b3fd214586c8e7d7d599d9dbbb
DTSTAMP:20260422T081952Z
SUMMARY:[RC Sanremo] Invito ai rotariani in vacanza
DESCRIPTION:Sitio web: https://www.golfsanremo.com/it/home1/
URL:https://insubrico.org/es/agenda/show/164393
DTSTART;TZID=Europe/Zurich:20230804T200000
DTEND;TZID=Europe/Zurich:20230804T223000
LOCATION:Golf Club Sanremo
CATEGORIES:Rotary
END:VEVENT
BEGIN:VTIMEZONE
TZID:Europe/Zurich
BEGIN:DAYLIGHT
DTSTART:20230804T200000
TZNAME:CEST
TZOFFSETTO:+0200
TZOFFSETFROM:+0200
END:DAYLIGHT
END:VTIMEZONE
END:VCALENDAR
