BEGIN:VCALENDAR
PRODID:-//eluceo/ical//2.0/EN
VERSION:2.0
CALSCALE:GREGORIAN
BEGIN:VEVENT
UID:f706085904d910095db4e467bb18db8f
DTSTAMP:20260422T044612Z
SUMMARY:[RC Lugano] Grigliata estiva
DESCRIPTION:
URL:https://insubrico.org/es/agenda/show/163963
DTSTART;TZID=Europe/Zurich:20230724T190000
DTEND;TZID=Europe/Zurich:20230724T230000
LOCATION:Via industria 6\, Caslano
CATEGORIES:Rotary
END:VEVENT
BEGIN:VTIMEZONE
TZID:Europe/Zurich
BEGIN:DAYLIGHT
DTSTART:20230724T190000
TZNAME:CEST
TZOFFSETTO:+0200
TZOFFSETFROM:+0200
END:DAYLIGHT
END:VTIMEZONE
END:VCALENDAR
