BEGIN:VCALENDAR
PRODID:-//eluceo/ical//2.0/EN
VERSION:2.0
CALSCALE:GREGORIAN
BEGIN:VEVENT
UID:271d998c2895faba3cc7acf785570907
DTSTAMP:20260423T151944Z
SUMMARY:[RC Varese] Bradley Birkenfled e il crollo del segreto bancario
DESCRIPTION:Referenten/innen: Dagli USA: \n\n\n\n\n\n\n\n\n\n\n\n\n\n\n\n\
 n\n\nBradley\nBirkenfled  è un banchiere privato americano\, pregiudicat
 o e whistleblower. Durante la metà e la fine degli anni 2000\, ha fatto u
 na serie di rivelazioni sui clienti di UBS Group AG\, in violazione delle 
 leggi svizzere sul segreto bancario\, al governo degli Stati Uniti\, denun
 ciando una possibile evasione fiscale. (da Wikipedia)
URL:https://insubrico.org/de/agenda/show/167404
DTSTART;TZID=Europe/Zurich:20230921T200000
DTEND;TZID=Europe/Zurich:20230921T223000
LOCATION:Golf Club Varese\, Viale Vittorio Veneto\, 59\, 21020 Luvinate\, I
 talia
CATEGORIES:Rotary
END:VEVENT
BEGIN:VTIMEZONE
TZID:Europe/Zurich
BEGIN:DAYLIGHT
DTSTART:20230921T200000
TZNAME:CEST
TZOFFSETTO:+0200
TZOFFSETFROM:+0200
END:DAYLIGHT
END:VTIMEZONE
END:VCALENDAR
