BEGIN:VCALENDAR
PRODID:-//eluceo/ical//2.0/EN
VERSION:2.0
CALSCALE:GREGORIAN
BEGIN:VEVENT
UID:9032d4215f0ec7cf14f68ad69cdba063
DTSTAMP:20260423T151618Z
SUMMARY:RC - Sesto Calende Angera: Un tuffo nella storia del Lago Maggiore
DESCRIPTION:Webseite: https://www.officinedellacqua.eu/officine-dellacqua/\
 nReferenten/innen: Dott. Paolo Sivelli\, medico oculista\, direttore AVEV 
 (Associazione Vele d’Epoca Verbano APS) e responsabile progetto Officine
  dell’Acqua.
URL:https://insubrico.org/de/agenda/show/162648
DTSTART;TZID=Europe/Zurich:20230629T200000
DTEND;TZID=Europe/Zurich:20230629T223000
LOCATION:Officine dell'acqua - Via Garibaldi 12 Laveno Mombello
CATEGORIES:Rotary
END:VEVENT
BEGIN:VTIMEZONE
TZID:Europe/Zurich
BEGIN:DAYLIGHT
DTSTART:20230629T200000
TZNAME:CEST
TZOFFSETTO:+0200
TZOFFSETFROM:+0200
END:DAYLIGHT
END:VTIMEZONE
END:VCALENDAR
