BEGIN:VCALENDAR
PRODID:-//eluceo/ical//2.0/EN
VERSION:2.0
CALSCALE:GREGORIAN
BEGIN:VEVENT
UID:383c2ddecf23811ee05c68390af89b24
DTSTAMP:20260423T151241Z
SUMMARY:(RC Como)  Incontro con Luciano Moggi
DESCRIPTION:Webseite: https://www.palacehotel.it/it/\nReferenten/innen: Luc
 iano Moggi (Monticiano\, 10 luglio 1937) è un ex dirigente sportivo 
 italiano.È stato dirigente di Roma\, Lazio\, Torino\, Napoli e Juve
 ntus\, portandole alla conquista di sei scudetti (cinque con la Juventus
  e uno con il Napoli)\, tre Coppe Italia (con Roma\, Torino e Juventus)\
 , cinque Supercoppe italiane (quattro con la Juventus e una con il Napol
 i)\, una UEFA Champions League\, una Coppa Intercontinentale\, una Supe
 rcoppa UEFA e una Coppa Intertoto (tutte con la Juventus)\, oltre alla 
 vittoria di una Coppa UEFA con il Napoli.Nel 2006\, assieme ad altre per
 sonalità del sistema calcistico italiano\, è stato coinvolto nello scand
 alo noto come Calciopoli: se a livello sportivo il processo si è conclus
 o con la condanna a cinque anni di inibizione con proposta di preclusione 
 alla permanenza in qualsiasi rango o categoria della FIGC\,[1] poi resa e
 ffettiva dagli organi di giustizia sportiva\,[2] a livello penale il proc
 esso si è concluso con l'annullamento senza rinvio della condanna emessa 
 in secondo grado[3] per sopraggiunta prescrizione del reato di «associaz
 ione per delinquere».[4]
URL:https://insubrico.org/de/agenda/show/160060
DTSTART;TZID=Europe/Zurich:20230601T200000
DTEND;TZID=Europe/Zurich:20230601T223000
LOCATION:Ristorante La Darsena – Palace Hotel Lungo Lario Trieste\, 16\, 
 22100 Como
CATEGORIES:Rotary
END:VEVENT
BEGIN:VTIMEZONE
TZID:Europe/Zurich
BEGIN:DAYLIGHT
DTSTART:20230601T200000
TZNAME:CEST
TZOFFSETTO:+0200
TZOFFSETFROM:+0200
END:DAYLIGHT
END:VTIMEZONE
END:VCALENDAR
