BEGIN:VCALENDAR
PRODID:-//eluceo/ical//2.0/EN
VERSION:2.0
CALSCALE:GREGORIAN
BEGIN:VEVENT
UID:ec9b9ab8c0395b2c8fee6b6299d9ae7f
DTSTAMP:20260423T122246Z
SUMMARY:[RC Varese Ceresio] III TORNEO DI BURRACO - sport\, convivialità e
  solidarietà per il territorio
DESCRIPTION:Govornik(ci): La Fondazione Carlo Rainoldi con sede a Varese\, 
 è una storica realtà del territorio che persegue esclusivamente finalit
 à di solidarietà sociale\, senza scopo di lucro.\nLa Fondazione opera pr
 incipalmente a favore di minori in età scolare (6–18 anni) in condizion
 i di disagio economico\, sociale o di integrazione\, offrendo accoglienza 
 diurna\, sostegno educativo e accompagnamento formativo\, anche in collabo
 razione con i Servizi Sociali comunali.\nNel rispetto dei propri fini stat
 utari\, la Fondazione promuove percorsi educativi e di prevenzione della d
 ispersione scolastica\, supportando le famiglie nella gestione del tempo e
 xtrascolastico e favorendo la crescita armonica dei ragazzi.
URL:https://insubrico.org/bs/agenda/show/212448
DTSTART;TZID=Europe/Zurich:20260612T203000
DTEND;TZID=Europe/Zurich:20260612T230000
LOCATION:Fondazione Carlo Rainoldi – Via C. Rainoldi 9\, Varese (Parchegg
 io interno gratuito)
CATEGORIES:Rotary
END:VEVENT
BEGIN:VTIMEZONE
TZID:Europe/Zurich
BEGIN:DAYLIGHT
DTSTART:20260612T203000
TZNAME:CEST
TZOFFSETTO:+0200
TZOFFSETFROM:+0200
END:DAYLIGHT
END:VTIMEZONE
END:VCALENDAR
