BEGIN:VCALENDAR
PRODID:-//eluceo/ical//2.0/EN
VERSION:2.0
CALSCALE:GREGORIAN
BEGIN:VEVENT
UID:fba2e4a5129e9ae0c047cd37b1928b6e
DTSTAMP:20260423T121941Z
SUMMARY:[RC Appiano Gentile]  PREMIO FELICE ALBONICO
DESCRIPTION:Govornik(ci): Flavio Oreglio\nCabarettista\, musicista\, scritt
 ore e umorista italiano\, Flavio Oreglio è conosciuto dal grande pubblico
  per la sua storica partecipazione al programma Zelig\, dove ha reso celeb
 re il suo inconfondibile stile ironico e surreale\, introdotto dal torment
 one “Il momento è catartico. Atmosfera\, grazie.”.\nArtista poliedric
 o\, unisce comicità\, poesia\, musica e riflessione civile\, portando in 
 scena un umorismo intelligente e mai banale. [it.wikipedia.org]
URL:https://insubrico.org/bs/agenda/show/212425
DTSTART;TZID=Europe/Zurich:20260424T200000
DTEND;TZID=Europe/Zurich:20260424T223000
LOCATION:Ristorante la Madonnina Largo Lanfranco da Ligurno 1 - Cantello
CATEGORIES:Rotary
END:VEVENT
BEGIN:VTIMEZONE
TZID:Europe/Zurich
BEGIN:DAYLIGHT
DTSTART:20260424T200000
TZNAME:CEST
TZOFFSETTO:+0200
TZOFFSETFROM:+0200
END:DAYLIGHT
END:VTIMEZONE
END:VCALENDAR
