BEGIN:VCALENDAR
PRODID:-//eluceo/ical//2.0/EN
VERSION:2.0
CALSCALE:GREGORIAN
BEGIN:VEVENT
UID:5570891ec45a59708b54e78b612f8552
DTSTAMP:20260423T122342Z
SUMMARY:[RC Varese] Ottanta voglia di cinema: From Hollywood with Love
DESCRIPTION:Govornik(ci): Matteo InzaghiGiornalista professionista\, dirett
 ore responsabile di Rete55 e docente (a contratto) all’Università dell
 ’Insubria\, è laureato in Scienze Politiche con una tesi sul rapport
 o tra Guerra del Vietnam e cinema\,È autore di saggi che indagano il cin
 ema americano come specchio dei contesti storici e sociali: tra questi “
 Mai più così belli. Il cinema della New Hollywood tra storia\, arte e ps
 icologia” (Mimesis\, 2020).
URL:https://insubrico.org/bs/agenda/show/212421
DTSTART;TZID=Europe/Zurich:20260430T200000
DTEND;TZID=Europe/Zurich:20260430T223000
LOCATION:Golf Club Varese\, Viale Vittorio Veneto\, 59\, 21020 Luvinate\, I
 talia
CATEGORIES:Rotary
END:VEVENT
BEGIN:VTIMEZONE
TZID:Europe/Zurich
BEGIN:DAYLIGHT
DTSTART:20260430T200000
TZNAME:CEST
TZOFFSETTO:+0200
TZOFFSETFROM:+0200
END:DAYLIGHT
END:VTIMEZONE
END:VCALENDAR
