BEGIN:VCALENDAR
PRODID:-//eluceo/ical//2.0/EN
VERSION:2.0
CALSCALE:GREGORIAN
BEGIN:VEVENT
UID:83b083cd174461f01b2e1e354f47aaf5
DTSTAMP:20260424T124108Z
SUMMARY:[RC Mendrisiotto]  Cena a base di foie gras con lo chef stellato Be
 rnard Fournier
DESCRIPTION:Web stranica: https://www.hotelcoronado.ch/it/
URL:https://insubrico.org/bs/agenda/show/165513
DTSTART;TZID=Europe/Zurich:20230831T190000
DTEND;TZID=Europe/Zurich:20230831T190000
LOCATION:Hotel Coronado Mendrisio
CATEGORIES:Rotary
END:VEVENT
BEGIN:VTIMEZONE
TZID:Europe/Zurich
BEGIN:DAYLIGHT
DTSTART:20230831T190000
TZNAME:CEST
TZOFFSETTO:+0200
TZOFFSETFROM:+0200
END:DAYLIGHT
END:VTIMEZONE
END:VCALENDAR
