BEGIN:VCALENDAR
PRODID:-//eluceo/ical//2.0/EN
VERSION:2.0
CALSCALE:GREGORIAN
BEGIN:VEVENT
UID:d9530ab90b0879e09e89b29e3924b85e
DTSTAMP:20260422T225822Z
SUMMARY:(RC Sesto Calende / Angera) Visita alle Officine dell'acqua / Proge
 tto maestri d'ascia
DESCRIPTION:Web stranica: https://www.officinedellacqua.eu/officine-dellacq
 ua/
URL:https://insubrico.org/bs/agenda/show/160544
DTSTART;TZID=Europe/Zurich:20230606T200000
DTEND;TZID=Europe/Zurich:20230606T213000
LOCATION:Viale G. Garibaldi\, 12\, 21014 Laveno-Mombello VA
CATEGORIES:Rotary
END:VEVENT
BEGIN:VTIMEZONE
TZID:Europe/Zurich
BEGIN:DAYLIGHT
DTSTART:20230606T200000
TZNAME:CEST
TZOFFSETTO:+0200
TZOFFSETFROM:+0200
END:DAYLIGHT
END:VTIMEZONE
END:VCALENDAR
