BEGIN:VCALENDAR
PRODID:-//eluceo/ical//2.0/EN
VERSION:2.0
CALSCALE:GREGORIAN
BEGIN:VEVENT
UID:743db73da87cc8530b52566d26916392
DTSTAMP:20260422T225659Z
SUMMARY:Incontro con Alessandra Locatelli Ministro per la disabilità
DESCRIPTION:Govornik(ci):  Alessandra Locatelli (Como\, 24 settembre 1976)
  è una politica italiana\, dal 22 ottobre 2022 ministro per le disabilit
 à nel governo Meloni.\n\nDeputata della Lega per Salvini Premier dal 2018
  al 2021\, è stata brevemente ministro per la famiglia e le disabilità n
 el governo Conte I (dal 10 luglio al 5 settembre 2019)\; dal 2021 è asses
 sore regionale della Lombardia con delega alla famiglia\, alla solidariet
 à sociale\, alle disabilità e alle pari opportunità.
URL:https://insubrico.org/bs/agenda/show/159201
DTSTART;TZID=Europe/Zurich:20230421T200000
DTEND;TZID=Europe/Zurich:20230421T223000
LOCATION:Sala Pasta del Teatro Sociale – Como
CATEGORIES:Rotary
END:VEVENT
BEGIN:VTIMEZONE
TZID:Europe/Zurich
BEGIN:DAYLIGHT
DTSTART:20230421T200000
TZNAME:CEST
TZOFFSETTO:+0200
TZOFFSETFROM:+0200
END:DAYLIGHT
END:VTIMEZONE
END:VCALENDAR
